Workbook

Sheet EXPENDITURE 2022
A1: TANO NORTH MUNICIPAL ASSEMBLY
A2: 2022 COMPOSITE BUDGET ESTIMATES
A3: 2022 IGF BUDGET ESTIMATES
A4: S/N | B4: ITEM DESCRIPTION | C4: LOCATION | D4: 2022 ESTIMATES (GH¢) | E4: SUPPLEMENTARY ESTIMATES | F4: REVISED BUDGET | G4: REMARKS
B5: COMPENSATION
A6: 1 | B6: Monthly Paid & Casual Labour | C6: District wide | D6: 56954.4 | E6: 6480 | F6: =D6+E6 -> 63434.4 | G6: Routine
B7: Sub-Total | D7: =SUM(D6) -> 56954.4 | E7: =SUM(E6) -> 6480 | F7: =D7+E7 -> 63434.4
B8: NATIONAL INSURANCE CONTRIBUTIONS | F8: =D8+E8 -> 0
A9: 2 | B9: 12.5% SSF Contributions (IGF) | C9: District wide | D9: 13200 | E9: 15000 | F9: =D9+E9 -> 28200 | G9: Routine
A10: 3 | B10: Tier 2 Contribution | C10: District wide | D10: 4889.28 | F10: =D10+E10 -> 4889.28 | G10: Routine
B11: Sub-Total | D11: =SUM(D9:D10) -> 18089.28 | E11: =SUM(E9:E10) -> 15000 | F11: =D11+E11 -> 33089.28
B12: OTHER ALLOWANCES | F12: =D12+E12 -> 0
A13: 4 | B13: Transfer Grant/Haulage Claims | C13: District wide | D13: 15000 | E13: 10000 | F13: =D13+E13 -> 25000 | G13: Routine
A14: 5 | B14: Special Allowance/Honorarium (PM's Allowance) | C14: District wide | D14: 3480 | F14: =D14+E14 -> 3480 | G14: Routine
B15: Sub-Total | D15: =SUM(D13:D14) -> 18480 | E15: =SUM(E13:E14) -> 10000 | F15: =D15+E15 -> 28480
B16: Total CFE - IGF | D16: =D7+D11+D15 -> 93523.68 | E16: =E7+E11+E15 -> 31480 | F16: =D16+E16 -> 125003.68
B17: GOODS AND SERVICE | F17: =D17+E17 -> 0
B18: MATERIALS - OFFICE SUPPLIES: | F18: =D18+E18 -> 0
A19: 6 | B19: Procurement of Office supplies and consumables | C19: District wide | D19: 18000 | E19: 40000 | F19: =D19+E19 -> 58000 | G19: Routine
B20: Construction material | D20: 116295.21 | E20: 116295.21 | F20: 116295.21 | G20: Routine
B21: Sub-Total | D21: =SUM(D19) -> 18000 | E21: =SUM(E19:E20) -> 156295.21 | F21: =SUM(F19:F20) -> 174295.21
B22: UTILITIES | F22: =D22+E22 -> 0
A23: 7 | B23: Electricity Charges | C23: District wide | D23: 17000 | E23: 10000 | F23: =D23+E23 -> 27000 | G23: Routine
A24: 8 | B24: Water | C24: District wide | D24: 3000 | E24: 2000 | F24: =D24+E24 -> 5000 | G24: Routine
A25: 9 | B25: Telecommunications | C25: District wide | D25: 6000 | E25: 4000 | F25: =D25+E25 -> 10000 | G25: Routine
A26: 10 | B26: Monthly DSTV Subscription | C26: District wide | D26: 7200 | F26: =D26+E26 -> 7200 | G26: Routine
A27: 11 | B27: Postal Charges | C27: District wide | D27: 3000 | F27: =D27+E27 -> 3000 | G27: Routine
B28: Sub-Total | D28: =SUM(D23:D27) -> 36200 | E28: =SUM(E23:E27) -> 16000 | F28: =D28+E28 -> 52200
B29: GENERAL CLEANING | F29: =D29+E29 -> 0
A30: 12 | B30: Cleaning Materials | C30: District wide | D30: 3000 | E30: 3000 | F30: =D30+E30 -> 6000 | G30: Routine
A31: 13 | B31: Hiring of Labourers for Weeding Public Places | C31: District wide | D31: 3000 | E31: 10000 | F31: =D31+E31 -> 13000 | G31: Routine
B32: Sub-Total | D32: =SUM(D30:D31) -> 6000 | E32: =SUM(E30:E31) -> 13000 | F32: =D32+E32 -> 19000
B33: HOSTING OF OFFICIAL GUEST/PROTOCOL | F33: =D33+E33 -> 0
A34: 14 | B34: Hotel Accommodation | C34: District wide | D34: 4000 | E34: 6000 | F34: =D34+E34 -> 10000 | G34: Routine
A35: 15 | B35: National/Official Days' Celebrations | C35: District wide | D35: 2000 | F35: =D35+E35 -> 2000 | G35: Routine
B36: CANTEEN SERVICES | E36: 10000 | F36: 10000 | G36: Routine
A37: 16 | B37: Refreshment Items | C37: District wide | D37: 14000 | E37: 36000 | F37: =D37+E37 -> 50000 | G37: Routine
B38: Sub-Total | C38: District wide | D38: =SUM(D34:D37) -> 20000 | E38: =SUM(E34:E37) -> 52000 | F38: =D38+E38 -> 72000
B39: TRAVEL & TRANSPORT | C39: District wide | F39: =D39+E39 -> 0
A40: 17 | B40: Maintenance & Repairs - Official Vehicles | C40: District wide | D40: 15000 | F40: =D40+E40 -> 15000 | G40: Routine
...

Sheet revenue 2022
A1: TANO NORTH MUNICIPAL ASSEMBLY
A2: 2022 COMPOSITE BUDGET
A3: CoA | B3: ITEM | C3: 2022
C4: Estimates | D4: ACTUAL AS AT JULY | E4: Supplementary Estimates | F4: Revised Estimates
A5: 1413000 | B5: RATE
A6: 1413002 | B6: Basic Rate | C6: 1100 | F6: =C6+E6 -> 1100
A7: 1413003 | B7: Special Rates/Unassessed/ | C7: 1100 | D7: 0 | F7: =C7+E7 -> 1100
A8: 1413001 | B8: Property Rate | C8: 246400 | D8: 136419.26 | E8: 122440 | F8: =C8+E8 -> 368840 | G8: 55900 | H8: =G8+E8 -> 178340
B9: Sub-Total | C9: =SUM(C6:C8) -> 248600 | D9: =SUM(D6:D8) -> 136419.26 | E9: =E6+E7+E8 -> 122440 | F9: =C9+E9 -> 371040
A10: 1415000 | B10: RENT | F10: =C10+E10 -> 0
A11: 1415013 | B11: Junior Staff Quarters | C11: 2200 | D11: 480 | E11: 1400 | F11: =C11+E11 -> 3600
A12: 1415031 | B12: Hiring of Facilities (Rent of Assembly Buildings) | C12: 1100 | D12: 0 | F12: =C12+E12 -> 1100
A13: 1415052 | B13: Rental of Stores - Markets/Station Stores | C13: 14850 | D13: 18788 | E13: 20150 | F13: =C13+E13 -> 35000
B14: Sub-Total | C14: =SUM(C11:C13) -> 18150 | D14: =SUM(D11:D13) -> 19268 | E14: =E11+E12+E13 -> 21550 | F14: =C14+E14 -> 39700
A15: 1422000 | B15: LICENSES | F15: =C15+E15 -> 0
A16: 1422001 | B16: Pito/Palm Wine Sellers Tapers | C16: 3850 | D16: 1957 | F16: =C16+E16 -> 3850
A17: 1422005 | B17: Chop Bars Rstaurants/Eating Houses | C17: 2425.892 | D17: 1396 | F17: =C17+E17 -> 2425.892
A18: 1422006 | B18: Corn/Rice/Flour Millers | C18: 1100 | D18: 1175 | E18: 1400 | F18: =C18+E18 -> 2500
A19: 1422009 | B19: Bakeries / Bakers | C19: 1100 | D19: 747 | F19: =C19+E19 -> 1100
A20: 1422010 | B20: Bicylce/Motorbikes Lincense | C20: 4000 | D20: 710 | F20: =C20+E20 -> 4000
A21: 1422011 | B21: Artisans/Self Employed | C21: 8000 | D21: 2800 | F21: =C21+E21 -> 8000
A22: 1422012 | B22: Kiosk/Container Shops | C22: 6600 | D22: 2272 | F22: =C22+E22 -> 6600
A23: 1422013 | B23: Sand & Stone Contractors | C23: 8000 | D23: 0 | F23: =C23+E23 -> 8000
A24: 1422015 | B24: Fuel/LPG Dealers | C24: 5500 | D24: 3536 | E24: 1500 | F24: =C24+E24 -> 7000
A25: 1422016 | B25: Lotto Operators | C25: 1100 | D25: 1567 | E25: 1900 | F25: =C25+E25 -> 3000
A26: 1422017 | B26: Hotels/ Night Clubs/Guest Houses | C26: 3300 | D26: 400 | F26: =C26+E26 -> 3300
A27: 1422018 | B27: Pharmacies/Chemical Sellers | C27: 1650 | D27: 2943 | E27: 3350 | F27: =C27+E27 -> 5000
A28: 1422019 | B28: Sawmills/Table Top Timber Operators | C28: 1100 | D28: 0 | F28: =C28+E28 -> 1100
A29: 1422020 | B29: Taxicab/Commercial Vehicles - Stickers | C29: 2500 | D29: 795 | E29: 17500 | F29: =C29+E29 -> 20000
A30: 1422023 | B30: Comm. /Community Info /Internet Cafe Centres | C30: 1650 | D30: 0 | F30: =C30+E30 -> 1650
A31: 1422029 | B31: Mobile Sale Vans | C31: 1100 | D31: 224 | F31: =C31+E31 -> 1100
A32: 1422030 | B32: Entertaiment Fee | C32: 1100 | D32: 80 | F32: =C32+E32 -> 1100
A33: 1422031 | B33: Wheel Trucks/Motor King/Hand Carts | C33: 110 | D33: 0 | F33: =C33+E33 -> 110
A34: 1422032 | B34: Akpeteshie/Spirit /Beer Sellers | C34: 5500 | D34: 0 | F34: =C34+E34 -> 5500
A35: 1422033 | B35: General Stores | C35: 24200 | D35: 3557 | F35: =C35+E35 -> 24200
A36: 1422038 | B36: Hairdressers & Dressmakers/Tailors | C36: 2750 | D36: 1230 | E36: 2250 | F36: =C36+E36 -> 5000
A37: 1422044 | B37: Financial Institutions | C37: 6050 | D37: 800 | F37: =C37+E37 -> 6050
A38: 1422047 | B38: Photographers & Video Operators | C38: 1100 | D38: 250 | F38: =C38+E38 -> 1100
A39: 1422052 | B39: Mechanics | C39: 1100 | D39: 175 | F39: =C39+E39 -> 1100
A40: 1422054 | B40: Laundries/Car Wash | C40: 1100 | D40: 50 | F40: =C40+E40 -> 1100
...

Sheet Sheet1
A1: Funds Available ( GHS ): Account | C1: Funds Available ( GHS ): Budget | D1: Funds Available ( GHS ): Encumbrance | E1: Funds Available ( GHS ): Actual | F1: Funds Available ( GHS ): Funds Available
A2: 308.12200.70111.3080101001.410101.00000000.0000000.910805.1306001.000000.0000.2210709 | C2: 0 | D2: 0 | E2: 0 | F2: 0
A3: 308.12200.70111.3080101001.410101.92001001.0000000.910101.1303001.000000.0000.2210511 | C3: 0 | D3: 0 | E3: 51812 | F3: -51812
A4: 308.12200.70111.3080101001.410101.92001001.0000000.910101.1306001.000000.0000.2210101 | C4: 0 | D4: 0 | E4: 15853.3 | F4: -15853.3
A5: 308.12200.70111.3080101001.410101.92001001.0000000.910101.1306001.000000.0000.2210103 | C5: 0 | D5: 0 | E5: 24009.67 | F5: -24009.67
A6: 308.12200.70111.3080101001.410101.92001001.0000000.910101.1306001.000000.0000.2210122 | C6: 0 | D6: 0 | E6: 3600 | F6: -3600
A7: 308.12200.70111.3080101001.410101.92001001.0000000.910101.1306001.000000.0000.2210201 | C7: 0 | D7: 0 | E7: 10360 | F7: -10360
A8: 308.12200.70111.3080101001.410101.92001001.0000000.910101.1306001.000000.0000.2210203 | C8: 0 | D8: 0 | E8: 9610 | F8: -9610
A9: 308.12200.70111.3080101001.410101.92001001.0000000.910101.1306001.000000.0000.2210204 | C9: 0 | D9: 0 | E9: 740 | F9: -740
A10: 308.12200.70111.3080101001.410101.92001001.0000000.910101.1306001.000000.0000.2210301 | C10: 0 | D10: 0 | E10: 1527.6 | F10: -1527.6
A11: 308.12200.70111.3080101001.410101.92001001.0000000.910101.1306001.000000.0000.2210404 | C11: 0 | D11: 0 | E11: 2400 | F11: -2400
A12: 308.12200.70111.3080101001.410101.92001001.0000000.910101.1306001.000000.0000.2210502 | B12: 15000 | C12: 30000 | D12: 500 | E12: 6426.76 | F12: 23073.24
A13: 308.12200.70111.3080101001.410101.92001001.0000000.910101.1306001.000000.0000.2210505 | B13: 40000 | C13: 80000 | D13: 0 | E13: 41442 | F13: 38558
A14: 308.12200.70111.3080101001.410101.92001001.0000000.910101.1306001.000000.0000.2210509 | B14: 15000 | C14: 30000 | D14: 0 | E14: 10323 | F14: 19677
A15: 308.12200.70111.3080101001.410101.92001001.0000000.910101.1306001.000000.0000.2210510 | B15: 27000 | C15: 54000 | D15: 0 | E15: 10722 | F15: 43278
A16: 308.12200.70111.3080101001.410101.92001001.0000000.910101.1306001.000000.0000.2210511 | B16: 70000 | C16: 140000 | D16: 0 | E16: 4750 | F16: 135250
A17: 308.12200.70111.3080101001.410101.92001001.0000000.910101.1306001.000000.0000.2210602 | B17: 7000 | C17: 14000 | D17: 0 | E17: 998.4 | F17: 13001.6
A18: 308.12200.70111.3080101001.410101.92001001.0000000.910101.1306001.000000.0000.2210603 | B18: 7000 | C18: 14000 | D18: 0 | E18: 0 | F18: 14000
A19: 308.12200.70111.3080101001.410101.92001001.0000000.910101.1306001.000000.0000.2210604 | B19: 4000 | C19: 8000 | D19: 0 | E19: 0 | F19: 8000
A20: 308.12200.70111.3080101001.410101.92001001.0000000.910101.1306001.000000.0000.2210606 | B20: 3000 | C20: 6000 | D20: 0 | E20: 0 | F20: 6000
A21: 308.12200.70111.3080101001.410101.92001001.0000000.910101.1306001.000000.0000.2210617 | B21: 4000 | C21: 8000 | D21: 0 | E21: 0 | F21: 8000
A22: 308.12200.70111.3080101001.410101.92001001.0000000.910101.1306001.000000.0000.2210709 | C22: 0 | D22: 0 | E22: 21112 | F22: -21112
A23: 308.12200.70111.3080101001.410101.92001001.0000000.910101.1306001.000000.0000.2210711 | C23: 0 | D23: 0 | E23: 12640 | F23: -12640
A24: 308.12200.70111.3080101001.410101.92001001.0000000.910101.1306001.000000.0000.2210806 | C24: 0 | D24: 0 | E24: 4646.6 | F24: -4646.6
A25: 308.12200.70111.3080101001.410101.92001001.0000000.910101.1306001.000000.0000.2211101 | C25: 600 | D25: 0 | E25: 0 | F25: 600
A26: 308.12200.70111.3080101001.410101.92001001.0000000.910803.1306001.000000.0000.2210103 | C26: 28000 | D26: 0 | E26: 0 | F26: 28000
A27: 308.12200.70111.3080101001.410101.92001001.0000000.910803.1306001.000000.0000.2210404 | C27: 8000 | D27: 0 | E27: 0 | F27: 8000
A28: 308.12200.70111.3080101001.410101.92001001.0000000.910803.1306001.000000.0000.2210902 | C28: 4000 | D28: 0 | E28: 0 | F28: 4000
A29: 308.12200.70111.3080101001.410101.92001004.0000000.910104.1306001.000000.0000.2210711 | C29: 14000 | D29: 0 | E29: 0 | F29: 14000
A30: 308.12200.70111.3080101001.410101.92001004.0000000.910805.1306001.000000.0000.2210511 | C30: 8000 | D30: 0 | E30: 0 | F30: 8000
A31: 308.12200.70111.3080101001.410101.92001004.0000000.910805.1306001.000000.0000.2210709 | C31: 52438.14 | D31: 0 | E31: 0 | F31: 52438.14
A32: 308.12200.70111.3080101001.410101.92001005.0000000.910804.1306001.000000.0000.2210905 | C32: 42328 | D32: 0 | E32: 0 | F32: 42328
A33: 308.12200.70111.3080101001.410201.92001001.0000000.910101.1306001.000000.0000.2210201 | C33: 34000 | D33: 0 | E33: 0 | F33: 34000
... A61: 308.12200.71040.3080802001.620101.92002005.0000000.910601.1306001.000000.0000.2210509 | C61: 4000 | D61: 0 | E61: 0 | F61: 4000

Sheet Sheet2
A1: COMPENSATION FOR EMPLOYEES-GOG
A2: S/N | B2: ITEM DESCRIPTION | C2: LOCATION | D2: 2022 ESTIMATES (GH¢) | G2: REMARKS
A3: 1 | B3: CENTRAL ADMI. | C3: CENTRAL ADM | D3: 940413.72 | F3: =D3+E3 -> 940413.72 | G3: Routine
A4: 2 | B4: FINANCE | C4: FINAN | D4: 518308.44 | F4: =D4+E4 -> 518308.44 | G4: Routine
A5: 3 | B5: HRD | C5: H | D5: 73611.48 | F5: =D5+E5 -> 73611.48 | G5: Routine
A6: 4 | B6: STATS | C6: STA | D6: 73604.64 | F6: =D6+E6 -> 73604.64 | G6: Routine
A7: 5 | B7: PLANNING & BUDGET | C7: G BUDGI | D7: 432801.72 | F7: =D7+E7 -> 432801.72 | G7: Routine
A8: 6 | B8: ENVIRONMENTAL HEALTH | C8: MEHO | D8: 768329.52 | F8: =D8+E8 -> 768329.52 | G8: Routine
A9: 7 | B9: MADU | C9: WORKS | D9: 473937.6 | F9: =D9+E9 -> 473937.6 | G9: Routine
A10: 8 | B10: T&CPD | C10: WORKS | D10: 71159.28 | F10: =D10+E10 -> 71159.28 | G10: Routine
A11: 9 | B11: SW&CD | C11: WORKS | D11: 213335.88 | F11: =D11+E11 -> 213335.88 | G11: Routine
A12: 10 | B12: MWD | C12: WORKS | D12: 566954.4 | F12: =D12+E12 -> 566954.4 | G12: Routine
A13: 11 | B13: MURBRD | C13: MURB | D13: 33415.38 | F13: =D13+E13 -> 33415.38 | G13: Routine
B14: Total | D14: =SUM(D3:D13) -> 4165872.1 | F14: =D14+E14 -> 4165872.1 | H14: 4165872.1
A15: GOODS AND SERVICES- GOG | F15: =D15+E15 -> 0
B16: Central Administration | F16: =D16+E16 -> 0
A17: 12 | B17: Fight Against COVID-19 | C17: District Wide | D17: 10000 | F17: =D17+E17 -> 10000 | G17: Routine
B18: Renovation of municipal budget analyst bungalow | C18: MBA | D18: 7000 | F18: =D18+E18 -> 7000 | G18: Capex
B19: procurement of Office computers and accessories | C19: CENTRAL ADM | D19: 18180 | F19: =D19+E19 -> 18180
B20: Total | D20: 35180 | F20: =D20+E20 -> 35180
B21: Agric | F21: =D21+E21 -> 0
A22: 13 | B22: Conduct Field Visits and Supervision Exercises | C22: District Wide | D22: 200 | F22: =D22+E22 -> 200 | G22: Routine
A23: 14 | B23: Establish Demonstration Farms for AgricTech Dissermination purposes | C23: District Wide | D23: 5000 | F23: =D23+E23 -> 5000 | G23: Routine
A24: 15 | B24: Organised Zonal/RELC/Technical Meetings | C24: District Wide | D24: 2000 | F24: =D24+E24 -> 2000 | G24: Routine
A25: 16 | B25: Undertake various Sensitization/Awareness Creation/Training Programmes | C25: District Wide | D25: 7300 | F25: =D25+E25 -> 7300 | G25: Routine
A26: 17 | B26: Maintenance/Running of Official Vehicless | C26: District Wide | D26: 7000 | F26: =D26+E26 -> 7000 | G26: Routine
A27: 18 | B27: Logistics for Mun. Agric Dev't Unit Operations | C27: District Wide | D27: 5252 | F27: =D27+E27 -> 5252 | G27: Routine
A28: 19 | B28: Activities geared towards the Implementation of the Gov't Flagship Projects/Programmes in Agric | C28: District Wide | D28: 1800 | F28: =D28+E28 -> 1800 | G28: Routine
A29: 20 | B29: Support Veterinary Services in the Municipality | C29: District Wide | D29: 400 | F29: =D29+E29 -> 400 | G29: Routine
A30: 21 | B30: Conduct Market Surveys in food prices among others | C30: District Wide | D30: 1000 | F30: =D30+E30 -> 1000 | G30: Routine
A31: 22 | B31: Disease Control in Plants | C31: District Wide | D31: 550 | F31: =D31+E31 -> 550 | G31: Routine
F32: =D32+E32 -> 0
B33: Sub-Total | D33: =SUM(D22:D32) -> 30502 | F33: =D33+E33 -> 30502
B34: Town & Country Planning | F34: =D34+E34 -> 0
A35: 23 | B35: Procurement of 2No. HP Desktop Computer with Accessories | C35: District Wide | D35: 4000 | F35: =D35+E35 -> 4000 | G35: New
A36: 24 | B36: Procurement of 1No. Executive Office Table and Swivel Chair | C36: District Wide | D36: 3500 | F36: =D36+E36 -> 3500 | G36: New
A37: 25 | B37: Bi-weekly site inspections to monitor physical developments | C37: District Wide | D37: 2000 | F37: =D37+E37 -> 2000 | G37: Routine
A38: 26 | B38: Procurement of 3no. 25x25 length Ariel Photographs (auto photos) of 3 Communities (Tanoso, Terchire and Bomaa) | C38: District Wide | D38: 3782 | F38: =D38+E38 -> 3782 | G38: New
F39: =D39+E39 -> 0
B40: Sub-Total | D40: =SUM(D35:D39) -> 13282 | F40: =D40+E40 -> 13282
...

Sheet IGF
A1: TANO NORTH MUNICIPAL ASSEMBLY
A2: 2022 COMPOSITE BUDGET ESTIMATES
A3: 2022 IGF BUDGET ESTIMATES
A4: S/N | B4: ITEM DESCRIPTION | C4: LOCATION | D4: 2022 ESTIMATES (GH¢) | E4: supplementary estimates | F4: Revised | G4: REMARKS
B5: COMPENSATION
A6: 1 | B6: Monthly Paid & Casual Labour | C6: District wide | D6: 56954.4 | E6: 6480 | F6: =D6+E6 -> 63434.4 | G6: Routine | H6: P1S1 | I6: CFE
B7: Sub-Total | D7: =SUM(D6) -> 56954.4 | E7: =SUM(E6) -> 6480 | F7: =D7+E7 -> 63434.4
B8: NATIONAL INSURANCE CONTRIBUTIONS | F8: =D8+E8 -> 0
A9: 2 | B9: 12.5% SSF Contributions (IGF) | C9: District wide | D9: 13200 | E9: 15000 | F9: =D9+E9 -> 28200 | G9: Routine | H9: P1S1 | I9: CFE
A10: 3 | B10: Tier 2 Contribution | C10: District wide | D10: 4889.28 | F10: =D10+E10 -> 4889.28 | G10: Routine | H10: P1S1 | I10: CFE
B11: Sub-Total | D11: =SUM(D9:D10) -> 18089.28 | E11: =SUM(E9:E10) -> 15000 | F11: =D11+E11 -> 33089.28
B12: OTHER ALLOWANCES | F12: =D12+E12 -> 0
A13: 4 | B13: Transfer Grant/Haulage Claims | C13: District wide | D13: 15000 | E13: 10000 | F13: =D13+E13 -> 25000 | G13: Routine | H13: P1S1 | I13: CFE
A14: 5 | B14: Special Allowance/Honorarium (PM's Allowance) | C14: District wide | D14: 3480 | F14: =D14+E14 -> 3480 | G14: Routine | H14: P1S1 | I14: CFE
B15: Sub-Total | D15: =SUM(D13:D14) -> 18480 | E15: =SUM(E13:E14) -> 10000 | F15: =D15+E15 -> 28480
B16: Total CFE - IGF | D16: =D7+D11+D15 -> 93523.68 | E16: =E7+E11+E15 -> 31480 | F16: =D16+E16 -> 125003.68
B17: GOODS AND SERVICE | F17: =D17+E17 -> 0
B18: MATERIALS - OFFICE SUPPLIES: | F18: =D18+E18 -> 0
A19: 6 | B19: Procurement of Office supplies and consumables | C19: District wide | D19: 18000 | E19: 10000 | F19: =D19+E19 -> 28000 | G19: Routine | H19: P1S1 | I19: G&S
B20: Sub-Total | D20: =SUM(D19) -> 18000 | E20: =SUM(E19) -> 10000 | F20: =D20+E20 -> 28000
B21: UTILITIES | F21: =D21+E21 -> 0
A22: 7 | B22: Electricity Charges | C22: District wide | D22: 17000 | E22: 10000 | F22: =D22+E22 -> 27000 | G22: Routine | H22: P1S1 | I22: G&S
A23: 8 | B23: Water | C23: District wide | D23: 3000 | E23: 2000 | F23: =D23+E23 -> 5000 | G23: Routine | H23: P1S1 | I23: G&S
A24: 9 | B24: Telecommunications | C24: District wide | D24: 6000 | E24: 4000 | F24: =D24+E24 -> 10000 | G24: Routine | H24: P1S1 | I24: G&S
A25: 10 | B25: Monthly DSTV Subscription | C25: District wide | D25: 7200 | F25: =D25+E25 -> 7200 | H25: P1S1 | I25: G&S
A26: 11 | B26: Postal Charges | C26: District wide | D26: 3000 | F26: =D26+E26 -> 3000 | G26: Routine | H26: P1S1 | I26: G&S
B27: Sub-Total | D27: =SUM(D22:D26) -> 36200 | E27: =SUM(E22:E26) -> 16000 | F27: =D27+E27 -> 52200
B28: GENERAL CLEANING | F28: =D28+E28 -> 0
A29: 12 | B29: Cleaning Materials | C29: District wide | D29: 3000 | E29: 3000 | F29: =D29+E29 -> 6000 | G29: Routine | H29: P2S5 | I29: G&S
A30: 13 | B30: Hiring of Labourers for Weeding Public Places | C30: District wide | D30: 3000 | E30: 10000 | F30: =D30+E30 -> 13000 | G30: Routine | H30: P2S5 | I30: G&S
B31: Sub-Total | D31: =SUM(D29:D30) -> 6000 | E31: =SUM(E29:E30) -> 13000 | F31: =D31+E31 -> 19000
B32: HOSTING OF OFFICIAL GUEST/PROTOCOL | F32: =D32+E32 -> 0
A33: 14 | B33: Hotel Accommodation | C33: District wide | D33: 4000 | E33: 6000 | F33: =D33+E33 -> 10000 | G33: Routine | H33: P1S1 | I33: G&S
A34: 15 | B34: National/Official Days' Celebrations | C34: District wide | D34: 2000 | F34: =D34+E34 -> 2000 | G34: Routine | H34: P1S1 | I34: G&S
B35: CANTEEN SERVICES | E35: 10000 | F35: 10000 | G35: Routine
A36: 16 | B36: Refreshment Items | C36: District wide | D36: 14000 | E36: 36000 | F36: =D36+E36 -> 50000 | G36: Routine | H36: P1S1 | I36: G&S
B37: Sub-Total | C37: District wide | D37: =SUM(D33:D36) -> 20000 | E37: =SUM(E33:E36) -> 52000 | F37: =D37+E37 -> 72000
B38: TRAVEL & TRANSPORT | C38: District wide | F38: =D38+E38 -> 0
A39: 17 | B39: Maintenance & Repairs - Official Vehicles | C39: District wide | D39: 15000 | F39: =D39+E39 -> 15000 | G39: Routine | H39: P1S1 | I39: G&S
A40: 18 | B40: Other Travel & Transportation | C40: District wide | D40: 15000 | E40: 15000 | F40: =D40+E40 -> 30000 | G40: Routine | H40: P1S1 | I40: G&S
...

Sheet GRC
A1: 2022 GROUND RENT / CONCESSION BUDGET
A2: S/N | B2: ITEM DESCRIPTION | C2: LOCATION | D2: 2022 ESTIMATES (GH¢) | E2: Supplementary Estimates | F2: Revised Estimates | G2: REMARKS
A3: S/N | B3: PROJECTS
A4: 1 | B4: Project Management | D4: 10000 | F4: =D4+E4 -> 10000 | G4: Routine | H4: P1S4 | I4: G&S
A5: 2 | B5: Construction of 1no. Institutional Latrine (Six Seater KVIP) Bredi and atutdrobesa CHPS Compound | C5: Bredi & Atudrobesa | D5: 100000 | F5: =D5+E5 -> 100000 | G5: NEW | H5: P2S2 | I5: CAPEX
A6: 3 | B6: Construction of 1no. Institutional Latrine (Six Seater KVIP)at Atudrobesa CHPS Compound | C6: Atudrobesa | D6: 100000 | E6: -100000 | F6: =D6+E6 -> 0 | G6: out | H6: P2S2 | I6: CAPEX
A7: 4 | B7: Construction of 1no. Institutional Latrine (Six Seater KVIP) at Subonpang Methodist Basic School | C7: Subonpang Methodist | D7: 100000 | E7: -100000 | F7: =D7+E7 -> 0 | G7: out | H7: P2S1 | I7: CAPEX
B8: Contruction of 1no. 10 seater WC , Drilling and mechanization of 1no.. Borehole at SEKESS | C8: SEKESS | E8: 200000 | F8: =D8+E8 -> 200000 | G8: new | H8: P2S1 | I8: CAPEX
F9: =D9+E9 -> 0
B10: Sub-total | D10: =SUM(D4:D7) -> 310000 | E10: =SUM(E4:E9) -> 0 | F10: =D10+E10 -> 310000
B11: ROLLED OVER PROJECTS - ON-GOING | F11: =D11+E11 -> 0
A12: 4 | B12: Construction of 1No. 2-Unit KG Block with Office, Store & Staff Room, 2 Seater KVIP with Urinal and furniture at Tanoso SDA School | C12: Tanoso | D12: 93996.48 | F12: =D12+E12 -> 93996.48 | G12: Retention | H12: P2S1 | I12: CAPEX
B13: Sub-total | D13: =SUM(D12) -> 93996.48 | E13: =SUM(E12) -> 0 | F13: =D13+E13 -> 93996.48
B14: SUB-TOTAL EXPENDITURE FOR GROUND RENT CONCESSION | D14: =D13+D10 -> 403996.48 | E14: =E13+E10 -> 0 | F14: =D14+E14 -> 403996.48
B15: TOTAL -IGF | D15: =D14+IGF!D87 -> 1136798.4 | E15: =IGF!E87 -> 297480 | F15: =D15+E15 -> 1434278.4
A17: EXPENDITURE CLASSIFICATION
A18: 1 | B18: COMPENSATION | C18: 0
A19: 2 | B19: GOODS & SERVICE | C19: =F4 -> 10000
A20: 3 | B20: CAPEX | C20: =F5+F6+F7+F8+F11+F12 -> 393996.48
B21: TOTAL | C21: =C18+C19+C20 -> 403996.48
C24: CFE | D24: G&S | E24: CAPEX | F24: TOTAL
A26: p1s1 | B26: General Administration | C26: 0 | D26: 0 | E26: 0 | F26: =C26+D26+E26 -> 0
A27: p1s2 | B27: Finance and Audit | C27: 0 | D27: 0 | E27: 0 | F27: =C27+D27+E27 -> 0
A28: p1s3 | B28: Human Resource Management | C28: 0 | D28: 0 | E28: 0 | F28: =C28+D28+E28 -> 0
A29: p1s4 | B29: Planning, Budgeting, Coordination and Statistics | C29: 0 | D29: =F4 -> 10000 | E29: 0 | F29: =C29+D29+E29 -> 10000
A30: p1s5 | B30: Legislative Oversights | C30: 0 | D30: 0 | E30: 0 | F30: =C30+D30+E30 -> 0
C31: =C26+C27+C28+C29+C30 -> 0 | D31: =D26+D27+D28+D29+D30 -> 10000 | E31: =E26+E27+E28+E29+E30 -> 0 | F31: =F26+F27+F28+F29+F30 -> 10000
A32: p2s1 | B32: Education, Youth and Sports Services | C32: 0 | D32: 0 | E32: =F7+F8+F12 -> 293996.48 | F32: =C32+D32+E32 -> 293996.48
A33: p2s2 | B33: Public Health Services and Management | C33: 0 | D33: 0 | E33: =F5+F6 -> 100000 | F33: =C33+D33+E33 -> 100000
A34: p2s3 | B34: Social Welfare and Community Development | C34: 0 | D34: 0 | E34: 0 | F34: =C34+D34+E34 -> 0
A35: p2s4 | B35: Birth and Death Registration Services | C35: 0 | D35: 0 | E35: 0 | F35: =C35+D35+E35 -> 0
A36: p2s5 | B36: Environmental Health and Sanitation Services | C36: 0 | D36: 0 | E36: 0 | F36: =C36+D36+E36 -> 0
C37: =C32+C33+C34+C35+C36 -> 0 | D37: =D32+D33+D34+D35+D36 -> 0 | E37: =E32+E33+E34+E35+E36 -> 393996.48 | F37: =F32+F33+F34+F35+F36 -> 393996.48
A38: p3s1 | B38: Physical and Spatial Planning Development | C38: 0 | D38: 0 | E38: 0 | F38: =C38+D38+E38 -> 0
A39: p3s2 | B39: Public Works, Rural Housing and Water Management | C39: 0 | D39: 0 | E39: 0 | F39: =C39+D39+E39 -> 0
A40: p3s3 | B40: Roads and Transport Services | C40: 0 | D40: 0 | E40: 0 | F40: =C40+D40+E40 -> 0
C41: =C38+C39+C40 -> 0 | D41: =D38+D39+D40 -> 0 | E41: =E38+E39+E40 -> 0 | F41: =F38+F39+F40 -> 0
A42: p4s1 | B42: Trade, Tourism and Industrial Development | C42: 0 | D42: 0 | E42: 0 | F42: =C42+D42+E42 -> 0
A43: p4s2 | B43: Agricultural Services and Management | C43: 0 | D43: 0 | E43: 0 | F43: =C43+D43+E43 -> 0
C44: =C42+C43 -> 0 | D44: =D42+D43 -> 0 | E44: =E42+E43 -> 0 | F44: =F42+F43 -> 0
...

Sheet GOG
A1: COMPENSATION FOR EMPLOYEES-GOG
A2: S/N | B2: ITEM DESCRIPTION | C2: LOCATION | D2: 2022 ESTIMATES (GH¢) | G2: REMARKS
A3: 1 | B3: CENTRAL ADMI. | C3: CENTRAL ADM | D3: 940413.72 | F3: =D3+E3 -> 940413.72 | G3: Routine | H3: P1S3 | I3: CFE
A4: 2 | B4: FINANCE | C4: FINAN | D4: 518308.44 | F4: =D4+E4 -> 518308.44 | G4: Routine | H4: P1S2 | I4: CFE
A5: 3 | B5: HRD | C5: H | D5: 73611.48 | F5: =D5+E5 -> 73611.48 | G5: Routine | H5: P1S3 | I5: CFE
A6: 4 | B6: STATS | C6: STA | D6: 73604.64 | F6: =D6+E6 -> 73604.64 | G6: Routine | H6: P1S4 | I6: CFE
A7: 5 | B7: PLANNING & BUDGET | C7: G BUDGI | D7: 432801.72 | F7: =D7+E7 -> 432801.72 | G7: Routine | H7: P1S4 | I7: CFE
A8: 6 | B8: ENVIRONMENTAL HEALTH | C8: MEHO | D8: 768329.52 | F8: =D8+E8 -> 768329.52 | G8: Routine | H8: P2S5 | I8: CFE
A9: 7 | B9: MADU | C9: WORKS | D9: 473937.6 | F9: =D9+E9 -> 473937.6 | G9: Routine | H9: P4S2 | I9: CFE
A10: 8 | B10: T&CPD | C10: WORKS | D10: 71159.28 | F10: =D10+E10 -> 71159.28 | G10: Routine | H10: P3S1 | I10: CFE
A11: 9 | B11: SW&CD | C11: WORKS | D11: 213335.88 | F11: =D11+E11 -> 213335.88 | G11: Routine | H11: P2S3 | I11: CFE
A12: 10 | B12: MWD | C12: WORKS | D12: 566954.4 | F12: =D12+E12 -> 566954.4 | G12: Routine | H12: P3S2 | I12: CFE
A13: 11 | B13: MURBRD | C13: MURB | D13: 33415.38 | F13: =D13+E13 -> 33415.38 | G13: Routine | H13: P3S3 | I13: CFE
B14: Total | D14: =SUM(D3:D13) -> 4165872.1 | F14: =F13+F12+F11+F10+F9+F8+F7+F6+F5+F4+F3 -> 4165872.1
A15: GOODS AND SERVICES- GOG | F15: =D15+E15 -> 0
B16: Central Administration | F16: =D16+E16 -> 0
A17: 12 | B17: Fight Against COVID-19 | C17: District Wide | D17: 10000 | F17: =D17+E17 -> 10000 | G17: Routine | H17: P2S5 | I17: G&S
B18: Renovation of municipal budget analyst bungalow | C18: MBA | D18: 7000 | F18: =D18+E18 -> 7000 | G18: Capex | H18: P1S4 | I18: CAPEX
B19: procurement of Office computers and accessories | C19: CENTRAL ADM | D19: 18180 | F19: =D19+E19 -> 18180 | H19: P1S1 | I19: G&S
B20: Total | D20: 35180 | F20: =D20+E20 -> 35180
B21: Agric | F21: =D21+E21 -> 0
A22: 13 | B22: Conduct Field Visits and Supervision Exercises | C22: District Wide | D22: 200 | F22: =D22+E22 -> 200 | G22: Routine | H22: P4S2 | I22: G&S
A23: 14 | B23: Establish Demonstration Farms for AgricTech Dissermination purposes | C23: District Wide | D23: 5000 | F23: =D23+E23 -> 5000 | G23: Routine | H23: P4S2 | I23: G&S
A24: 15 | B24: Organised Zonal/RELC/Technical Meetings | C24: District Wide | D24: 2000 | F24: =D24+E24 -> 2000 | G24: Routine | H24: P4S2 | I24: G&S
A25: 16 | B25: Undertake various Sensitization/Awareness Creation/Training Programmes | C25: District Wide | D25: 7300 | F25: =D25+E25 -> 7300 | G25: Routine | H25: P4S2 | I25: G&S
A26: 17 | B26: Maintenance/Running of Official Vehicless | C26: District Wide | D26: 7000 | F26: =D26+E26 -> 7000 | G26: Routine | H26: P4S2 | I26: G&S
A27: 18 | B27: Logistics for Mun. Agric Dev't Unit Operations | C27: District Wide | D27: 5252 | F27: =D27+E27 -> 5252 | G27: Routine | H27: P4S2 | I27: G&S
A28: 19 | B28: Activities geared towards the Implementation of the Gov't Flagship Projects/Programmes in Agric | C28: District Wide | D28: 1800 | F28: =D28+E28 -> 1800 | G28: Routine | H28: P4S2 | I28: G&S
A29: 20 | B29: Support Veterinary Services in the Municipality | C29: District Wide | D29: 400 | F29: =D29+E29 -> 400 | G29: Routine | H29: P4S2 | I29: G&S
A30: 21 | B30: Conduct Market Surveys in food prices among others | C30: District Wide | D30: 1000 | F30: =D30+E30 -> 1000 | G30: Routine | H30: P4S2 | I30: G&S
A31: 22 | B31: Disease Control in Plants | C31: District Wide | D31: 550 | F31: =D31+E31 -> 550 | G31: Routine | H31: P4S2 | I31: G&S
F32: =D32+E32 -> 0
B33: Sub-Total | D33: =SUM(D22:D32) -> 30502 | F33: =D33+E33 -> 30502
B34: Town & Country Planning | F34: =D34+E34 -> 0
A35: 23 | B35: Procurement of 2No. HP Desktop Computer with Accessories | C35: District Wide | D35: 4000 | F35: =D35+E35 -> 4000 | G35: New | H35: P3S1 | I35: G&S
A36: 24 | B36: Procurement of 1No. Executive Office Table and Swivel Chair | C36: District Wide | D36: 3500 | F36: =D36+E36 -> 3500 | G36: New | H36: P3S1 | I36: G&S
A37: 25 | B37: Bi-weekly site inspections to monitor physical developments | C37: District Wide | D37: 2000 | F37: =D37+E37 -> 2000 | G37: Routine | H37: P3S1 | I37: G&S
A38: 26 | B38: Procurement of 3no. 25x25 length Ariel Photographs (auto photos) of 3 Communities (Tanoso, Terchire and Bomaa) | C38: District Wide | D38: 3782 | F38: =D38+E38 -> 3782 | G38: New | H38: P3S1 | I38: G&S
F39: =D39+E39 -> 0
B40: Sub-Total | D40: =SUM(D35:D39) -> 13282 | F40: =D40+E40 -> 13282
...

Sheet DACF
B1: 2022 DACF ASSEMBLY BUDGET
A2: S/N | B2: ITEM DESCRIPTION | C2: LOCATION | D2: 2022 ESTIMATES (GH¢) | E2: supplementary estimates | F2: revised estimates | G2: REMARKS
B3: Recurrent Expenditure
A4: 1 | B4: Procurement Planning and Management | C4: Municipal Administration | D4: 15000 | E4: 15000 | F4: =D4+E4 -> 30000 | G4: Routine | H4: P1S1 | I4: G&S
A5: 2 | B5: Internal Audit and Audit Report Implementation Committee Activities | C5: Municipal Administration | D5: 20000 | F5: =D5+E5 -> 20000 | G5: Routine | H5: P1S4 | I5: G&S
A6: 3 | B6: Manpower Skills Development (Capacity Building) | C6: Municipal Administration | D6: 75000 | E6: 5000 | F6: =D6+E6 -> 80000 | G6: Routine | H6: P1S3 | I6: G&S
A7: 4 | B7: Implementation of National Anti Corruption Campaign Activities in the Municipality | C7: District Wide | D7: 10000 | F7: =D7+E7 -> 10000 | G7: Routine | H7: P1S5 | I7: G&S
A8: 5 | B8: Support DPCU Activities | C8: Municipal Administration | D8: 30000 | E8: -10000 | F8: =D8+E8 -> 20000 | G8: Routine | H8: P1S4 | I8: G&S
A9: 6 | B9: Municipal MTDP / AAPs Reviews and others | C9: Municipal Administration | D9: 30000 | E9: -10000 | F9: =D9+E9 -> 20000 | G9: Routine | H9: P1S4 | I9: G&S
A10: 7 | B10: T&T Expenses - (Fuel/running cost) for Monitoring & Evaluation | C10: Municipal Administration | D10: 35585.88 | F10: =D10+E10 -> 35585.88 | G10: Routine | H10: P1S1 | I10: G&S
A11: 8 | B11: Maintenance and Repairs of Official Monitoring vehicles | C11: Municipal Administration | D11: 55000 | E11: 10000 | F11: =D11+E11 -> 65000 | G11: Routine | H11: P1S1 | I11: G&S
A12: 9 | B12: Servicing of Sub-Committee/Assembly meetings | C12: Municipal Administration | D12: 50000 | F12: =D12+E12 -> 50000 | G12: Routine | H12: P1S5 | I12: G&S
A13: 10 | B13: Contributions to RCC Support Projects/Others | C13: Municipal Administration | D13: 20000 | F13: =D13+E13 -> 20000 | G13: Routine | H13: P1S1 | I13: G&S
A14: 11 | B14: Preparation/Implementation of Annual Composite Programme Based Budget | C14: Municipal Administration | D14: 30000 | F14: =D14+E14 -> 30000 | G14: Routine | H14: P1S4 | I14: G&S
A15: 12 | B15: NALAG Contributions and others | C15: Municipal Administration | D15: 10000 | F15: =D15+E15 -> 10000 | G15: Routine | H15: P1S5 | I15: G&S
A16: 13 | B16: Hosting of official guest | C16: Municipal Administration | D16: 30000 | F16: =D16+E16 -> 30000 | G16: Routine | H16: P1S1 | I16: G&S
A17: 14 | B17: Implementation of GIFMIS | C17: Municipal Administration | D17: 20000 | E17: -10000 | F17: =D17+E17 -> 10000 | G17: Routine | H17: P1S2 | I17: G&S
B18: Sub-Total | D18: =SUM(D4:D17) -> 430585.88 | E18: =SUM(E4:E17) -> 0 | F18: =SUM(F4:F17) -> 430585.88
B19: Infrastructure | F19: =D19+E19 -> 0
A20: 15 | B20: Purchase of Construction Materials for the Rehabilitation of Municipal Office Block | C20: Municipal Administration | D20: 50000 | F20: =D20+E20 -> 50000 | G20: On-going | H20: P3S2 | I20: G&S
A21: 16 | B21: Procuremet of buiding materials for the construction of Assembly's warehouse | C21: Municipal Administration | D21: 40000 | E21: -20000 | F21: =D21+E21 -> 20000 | G21: New | H21: P3S2 | I21: G&S
A22: 17 | B22: Construction of Security post with Washroom at the MCD Residence | C22: Municipal Administration | D22: 20000 | F22: =D22+E22 -> 20000 | G22: New | H22: P3S2 | I22: CAPEX
A23: 18 | B23: Petitioning of Office Block and Minor Rehabilitation Work at the Old Assembly Building | C23: Municipal Administration | D23: 20000 | F23: =D23+E23 -> 20000 | G23: New | H23: P3S2 | I23: G&S
A24: 19 | B24: Maintenance of Residential & Office Accomodation and existing market facilities | C24: Municipal Administration | D24: 70000 | F24: =D24+E24 -> 70000 | G24: Routine | H24: P3S2 | I24: G&S
A25: 20 | B25: Purchase of Computers and Accessories | C25: Municipal Administration | D25: 20000 | F25: =D25+E25 -> 20000 | G25: New | H25: P3S2 | I25: G&S
A26: 21 | B26: Acquisition of Land Title Deeds of Assembly Landed Properties | C26: Municipal Administration | D26: 25000 | E26: -15000 | F26: =D26+E26 -> 10000 | G26: New | H26: P3S2 | I26: G&S
A27: 22 | B27: Furnishing of Assembly hall | C27: Municipal Administration | D27: 75000 | E27: 35000 | F27: =D27+E27 -> 110000 | G27: New | H27: P3S2 | I27: G&S
A28: 23 | B28: Construction of Office Complex Block for the Municipal Assembly - Phase I | C28: Municipal Administration | D28: 100585.88 | E28: -100585.88 | F28: =D28+E28 -> 0 | G28: New | H28: P3S2 | I28: CAPEX
B29: Sub-Total | D29: =SUM(D20:D28) -> 420585.88 | E29: =SUM(E20:E28) -> -100585.88 | F29: =SUM(F20:F28) -> 320000
B30: Others | F30: =D30+E30 -> 0
A31: 24 | B31: Completion of bomaa Area Council Office Block | C31: Bomaa | D31: 23823.6 | F31: =D31+E31 -> 23823.6 | G31: On-going | H31: P1S5 | I31: CAPEX
A32: 25 | B32: Logistics support to Sub-Structures | C32: District Wide | D32: 60293.576 | F32: =D32+E32 -> 60293.576 | G32: Routine | H32: P1S5 | I32: G&S
B33: Sub-Total | D33: =SUM(D31:D32) -> 84117.176 | F33: =D33+E33 -> 84117.176
F34: =D34+E34 -> 0
B35: DESCRETIONERY | F35: =D35+E35 -> 0
B36: Agric | F36: =D36+E36 -> 0
A37: 26 | B37: Farmers Day celebration | C37: District Wide | D37: 50000 | F37: =D37+E37 -> 50000 | G37: Routine | H37: P1S1 | I37: G&S
A38: 27 | B38: Logistics support to the Department of Agric | C38: District Wide | D38: 20000 | F38: =D38+E38 -> 20000 | G38: On-going | H38: P4S2 | I38: G&S
A39: 28 | B39: Support Government Priority Programmes under Agric Development (DCAT& PFFJ) | C39: District Wide | D39: 100000 | F39: =D39+E39 -> 100000 | G39: Routine | H39: P4S2 | I39: G&S
B40: Sub-Total | D40: =SUM(D37:D39) -> 170000 | F40: =D40+E40 -> 170000
...

Sheet DONOR
A1: 2022 DPAT/DDF / DACF-RFG BUDGET
A2: S/N | B2: ITEM DESCRIPTION | C2: LOCATION | D2: 2022 ESTIMATES (GH¢) | G2: REMARKS
A3: 1 | B3: Capacity Biulding Grant for various categories of staff and purchase of office equipment - DPAT II | C3: District wide | D3: 45859 | F3: =D3+E3 -> 45859 | G3: Routine | H3: P1S3 | I3: G&S
A4: 2 | B4: Construction of 1no. 3unit Teachers Quarters | C4: District wide | D4: 280000 | E4: -280000 | F4: =D4+E4 -> 0 | G4: NEW | H4: P2S1 | I4: CAPEX
A5: 3 | B5: Construction of 1No. Weighing Centre at Nsuapemkrom | C5: Nsuapemkrom | D5: 50000 | E5: -50000 | F5: =D5+E5 -> 0 | G5: NEW | H5: P2S2 | I5: CAPEX
A6: 4 | B6: Construction of 1No. Weighing Centre at Mamponteng | C6: Mamponteng | D6: 50000 | E6: -50000 | F6: =D6+E6 -> 0 | G6: NEW | H6: P2S2 | I6: CAPEX
A7: 5 | B7: Construction of 1No. Maternity Block at Mankranho | C7: Mankranho | D7: 350000 | E7: -350000 | F7: =D7+E7 -> 0 | G7: NEW | H7: P2S2 | I7: CAPEX
A8: 6 | B8: Drilling and Construction of 4no. Boreholes at Duayaw nkwanta, Mpensenbi, Nkwadwofobehu, Yaw Nyarko & Atudrobesa CHPS | C8: District wide | D8: 150000 | E8: -10018.04 | F8: =D8+E8 -> 139981.96 | G8: NEW | H8: P2S5 | I8: CAPEX
A9: 7 | B9: Construction of 1no. Slaughter Slab at Yamfo | C9: Yamfo | D9: 50000 | F9: =D9+E9 -> 50000 | G9: NEW | H9: P2S5 | I9: CAPEX
A10: 8 | B10: Construction of 1no. Zonal Council Office at Duayaw Nkwanta Zonal Council | C10: District wide | D10: 152419 | E10: -152419 | F10: =D10+E10 -> 0 | G10: NEW | H10: P1S5 | I10: CAPEX
A11: 9 | B11: Construction of 1no. Skip Pad at Duayaw Nkwanta | C11: District wide | D11: 50000 | F11: =D11+E11 -> 50000 | G11: NEW | H11: P2S5 | I11: CAPEX
B12: Sub-Total | D12: =SUM(D3:D11) -> 1178278 | E12: =SUM(E3:E11) -> -892437.04 | F12: =D12+E12 -> 285840.96
A13: 10 | B13: Construction of 1No. 3-Unit Classroom Block with Office, Store & Staff Room, 2 seater KVIP with Urinal and supply of 90 pieces of mono desk, 6no. Teachers Tables and chairs at Nsuapemkrom | C13: Nsuapemkrom | D13: 115843.74 | E13: -115843.74 | F13: =D13+E13 -> 0 | G13: Capex | H13: P2S1 | I13: CAPEX
A14: 11 | B14: Construction of 1No. 3-Unit Classroom Block with Office, Store & Staff Room, 2seater KVIP with Urinal and supply of 90pieces of mono desk, 6no. Teachers Tables and chairs at Adagyamim | C14: Adagyamim | D14: 130705.38 | E14: -130705.38 | F14: =D14+E14 -> 0 | G14: Capex | H14: P2S1
A15: 12 | B15: Construction of 1no. 2 Bedroom Semi-Detached Doctors' quarters at St. John of God Hospital - Duayaw Nkwanta | C15: Nkwanta | D15: 143475.12 | E15: -143475.12 | F15: =D15+E15 -> 0 | G15: Capex | H15: P2S1
A16: 13 | B16: Const. of 1No. Dometory Block at BOSTECH | C16: BOSTECH | D16: 167583.01 | E16: -167583.01 | F16: =D16+E16 -> 0 | G16: Capex | H16: P2S1
A17: 14 | B17: Construction of 1no. 2 Bedroom Semi-detached Teachers Quarters at Abuom | C17: Abuom | D17: 166643.2 | E17: -166643.2 | F17: =D17+E17 -> 0 | G17: Capex | H17: P2S1
B18: Procurement and Supply of 66No. LV Poles | C18: District wide | E18: 99736 | F18: =D18+E18 -> 99736 | G18: Capex | H18: P3S2
B19: Extension of Electricity to Duayaw Nkwanta Industrial Area | C19: Duayaw Nkwanta | E19: 195472 | F19: =D19+E19 -> 195472 | G19: Capex | H19: P3S2
B20: Procurement and Supply of 720 Dual Desks | C20: District wide | E20: 215996.4 | F20: =D20+E20 -> 215996.4 | G20: Capex | H20: P2S1
B21: Construction of Maternity Block at Mankranho | C21: Mankranho | F21: =D21+E21 -> 0 | G21: Capex | H21: P2S2
B22: Sub-Total | D22: =SUM(D13:D21) -> 724250.45 | E22: =SUM(E13:E21) -> -213046.05 | F22: =D22+E22 -> 511204.4
B23: TOTAL DACF-RFG | D23: =D22+D12 -> 1902528.4 | E23: =E22+E12 -> -1105483.1 | F23: =D23+E23 -> 797045.36 | G23: =F23-F3 -> 751186.36
B25: 2022 MAG BUDGET
A26: S/N | B26: ITEM DESCRIPTION | C26: LOCATION | D26: ESTIMATES (GH¢) | G26: REMARKS
A27: 1 | B27: Conduct Field Visits and Supervision Exercises | C27: District wide | D27: 8273.33 | F27: =D27+E27 -> 8273.33 | G27: Routine | H27: P4S2 | I27: G&S
A28: 2 | B28: Establish Demonstration Farms for AgricTech Dissermination purposes | C28: District wide | D28: 2800 | F28: =D28+E28 -> 2800 | G28: Routine | H28: P4S2 | I28: G&S
A29: 3 | B29: Organised Zonal/RELC/Technical Meetings | C29: District wide | D29: 9500 | F29: =D29+E29 -> 9500 | G29: Routine | H29: P4S2 | I29: G&S
A30: 4 | B30: Undertake various Sensitization/Awareness Creation/Training Programmes | C30: District wide | D30: 4850 | F30: =D30+E30 -> 4850 | G30: Routine | H30: P4S2 | I30: G&S
A31: 5 | B31: Maintenance/Running of Official Vehicless | C31: District wide | D31: 8000 | F31: =D31+E31 -> 8000 | G31: Routine | H31: P4S2 | I31: G&S
A32: 6 | B32: Logistics for Mun. Agric Dev't Unit Operations | C32: District wide | D32: 8000 | F32: =D32+E32 -> 8000 | G32: Routine | H32: P4S2 | I32: G&S
A33: 7 | B33: Activities geared towards the Implementation of the Gov't Flagship Projects/Programmes in Agric | C33: District wide | D33: 2900 | F33: =D33+E33 -> 2900 | G33: Routine | H33: P4S2 | I33: G&S
A34: 8 | B34: Support Veterinary Services in the Municipality | C34: District wide | D34: 1400 | F34: =D34+E34 -> 1400 | G34: Routine | H34: P4S2 | I34: G&S
A35: 9 | B35: Conduct Market Surveys in food prices among others | C35: District wide | D35: 700 | F35: =D35+E35 -> 700 | G35: Routine | H35: P4S2 | I35: G&S
A36: 10 | B36: Disease Control in Plants | C36: District wide | D36: 618 | F36: =D36+E36 -> 618 | G36: Routine | H36: P4S2 | I36: G&S
A37: 11 | B37: Acqua Culture | C37: District wide | D37: 500 | F37: =D37+E37 -> 500 | G37: Routine | H37: P4S2 | I37: G&S
B38: TOTAL MAG | D38: =SUM(D27:D37) -> 47541.33 | E38: =SUM(E27:E37) -> 0 | F38: =SUM(F27:F37) -> 47541.33
B40: UNICEF - Social Welfare and Community Development
A41: 12 | B41: Implementation of Child Labour Programmes | C41: District wide | D41: 5000 | F41: =D41+E41 -> 5000 | G41: Routine | H41: P2S3 | I41: G&S
A42: 13 | B42: Rescue children (victims) together with other concern institutions | C42: District Wide | D42: 3000 | F42: =D42+E42 -> 3000 | G42: Routine | H42: P2S3 | I42: G&S
...

Sheet SUMMARY
B1: EXPENDITURE CLASSIFICATION | C1: INITIAL ESTIMATES
A2: 1 | B2: COMPENSATION | C2: =DONOR!C51+DACF!C132+GOG!D71+GRC!C18+IGF!C96 -> 4290875.7
A3: 2 | B3: GOODS & SERVICE | C3: =DONOR!C52+DACF!C133+GOG!D72+GRC!C19+IGF!C97 -> 1028661.4
A4: 3 | B4: CAPEX | C4: =DONOR!C53+DACF!C134+GOG!D73+GRC!C20+IGF!C98 -> 1298478
B5: TOTAL | C5: =DONOR!C54+DACF!C135+GOG!D74+GRC!C21+IGF!C99 -> 6618015.2
C7: INITIAL ESTIMATES | D7: INITIAL ESTIMATES | E7: INITIAL ESTIMATES
C8: CFE | D8: G&S | E8: CAPEX
A9: p1s1 | B9: General Administration | C9: =DONOR!C59+DACF!C140+GOG!C78+GRC!C26+IGF!C103 -> 1065417.4 | D9: =DONOR!D59+DACF!D140+GOG!D78+GRC!D26+IGF!D103 -> 452099.07 | E9: =DONOR!E59+DACF!E140+GOG!E78+GRC!E26+IGF!E103 -> 0 | F9: =DONOR!F59+DACF!F140+GOG!F78+GRC!F26+IGF!F103 -> 1517516.5
A10: p1s2 | B10: Finance and Audit | C10: =DONOR!C60+DACF!C141+GOG!C79+GRC!C27+IGF!C104 -> 518308.44 | D10: =DONOR!D60+DACF!D141+GOG!D79+GRC!D27+IGF!D104 -> 73300 | E10: =DONOR!E60+DACF!E141+GOG!E79+GRC!E27+IGF!E104 -> 0 | F10: =DONOR!F60+DACF!F141+GOG!F79+GRC!F27+IGF!F104 -> 591608.44
A11: p1s3 | B11: Human Resource Management | C11: =DONOR!C61+DACF!C142+GOG!C80+GRC!C28+IGF!C105 -> 73611.48 | D11: =DONOR!D61+DACF!D142+GOG!D80+GRC!D28+IGF!D105 -> 64359 | E11: =DONOR!E61+DACF!E142+GOG!E80+GRC!E28+IGF!E105 -> 0 | F11: =DONOR!F61+DACF!F142+GOG!F80+GRC!F28+IGF!F105 -> 137970.48
A12: p1s4 | B12: Planning, Budgeting, Coordination and Statistics | C12: =DONOR!C62+DACF!C143+GOG!C81+GRC!C29+IGF!C106 -> 506413.2 | D12: =DONOR!D62+DACF!D143+GOG!D81+GRC!D29+IGF!D106 -> 45500 | E12: =DONOR!E62+DACF!E143+GOG!E81+GRC!E29+IGF!E106 -> 7000 | F12: =DONOR!F62+DACF!F143+GOG!F81+GRC!F29+IGF!F106 -> 558913.2
A13: p1s5 | B13: Legislative Oversights | C13: =DONOR!C63+DACF!C144+GOG!C82+GRC!C30+IGF!C107 -> 0 | D13: =DONOR!D63+DACF!D144+GOG!D82+GRC!D30+IGF!D107 -> 21164 | E13: =DONOR!E63+DACF!E144+GOG!E82+GRC!E30+IGF!E107 -> 0 | F13: =DONOR!F63+DACF!F144+GOG!F82+GRC!F30+IGF!F107 -> 21164
C14: =DONOR!C64+DACF!C145+GOG!C83+GRC!C31+IGF!C108 -> 2163750.5 | D14: =DONOR!D64+DACF!D145+GOG!D83+GRC!D31+IGF!D108 -> 656422.07 | E14: =DONOR!E64+DACF!E145+GOG!E83+GRC!E31+IGF!E108 -> 7000 | F14: =DONOR!F64+DACF!F145+GOG!F83+GRC!F31+IGF!F108 -> 2827172.6
A15: p2s1 | B15: Education, Youth and Sports Services | C15: =DONOR!C65+DACF!C146+GOG!C84+GRC!C32+IGF!C109 -> 0 | D15: =DONOR!D65+DACF!D146+GOG!D84+GRC!D32+IGF!D109 -> 0 | E15: =DONOR!E65+DACF!E146+GOG!E84+GRC!E32+IGF!E109 -> 509992.88 | F15: =DONOR!F65+DACF!F146+GOG!F84+GRC!F32+IGF!F109 -> 509992.88
A16: p2s2 | B16: Public Health Services and Management | C16: =DONOR!C66+DACF!C147+GOG!C85+GRC!C33+IGF!C110 -> 0 | D16: =DONOR!D66+DACF!D147+GOG!D85+GRC!D33+IGF!D110 -> 0 | E16: =DONOR!E66+DACF!E147+GOG!E85+GRC!E33+IGF!E110 -> 100000 | F16: =DONOR!F66+DACF!F147+GOG!F85+GRC!F33+IGF!F110 -> 100000
A17: p2s3 | B17: Social Welfare and Community Development | C17: =DONOR!C67+DACF!C148+GOG!C86+GRC!C34+IGF!C111 -> 213335.88 | D17: =DONOR!D67+DACF!D148+GOG!D86+GRC!D34+IGF!D111 -> 42392 | E17: =DONOR!E67+DACF!E148+GOG!E86+GRC!E34+IGF!E111 -> 0 | F17: =DONOR!F67+DACF!F148+GOG!F86+GRC!F34+IGF!F111 -> 255727.88
A18: p2s4 | B18: Birth and Death Registration Services | C18: =DONOR!C68+DACF!C149+GOG!C87+GRC!C35+IGF!C112 -> 0 | D18: =DONOR!D68+DACF!D149+GOG!D87+GRC!D35+IGF!D112 -> 0 | E18: =DONOR!E68+DACF!E149+GOG!E87+GRC!E35+IGF!E112 -> 0 | F18: =DONOR!F68+DACF!F149+GOG!F87+GRC!F35+IGF!F112 -> 0
A19: p2s5 | B19: Environmental Health and Sanitation Services | C19: =DONOR!C69+DACF!C150+GOG!C88+GRC!C36+IGF!C113 -> 768329.52 | D19: =DONOR!D69+DACF!D150+GOG!D88+GRC!D36+IGF!D113 -> 10000 | E19: =DONOR!E69+DACF!E150+GOG!E88+GRC!E36+IGF!E113 -> 239981.96 | F19: =DONOR!F69+DACF!F150+GOG!F88+GRC!F36+IGF!F113 -> 1018311.5
C20: =DONOR!C70+DACF!C151+GOG!C89+GRC!C37+IGF!C114 -> 981665.4 | D20: =DONOR!D70+DACF!D151+GOG!D89+GRC!D37+IGF!D114 -> 52392 | E20: =DONOR!E70+DACF!E151+GOG!E89+GRC!E37+IGF!E114 -> 849974.84 | F20: =DONOR!F70+DACF!F151+GOG!F89+GRC!F37+IGF!F114 -> 1884032.2
A21: p3s1 | B21: Physical and Spatial Planning Development | C21: =DONOR!C71+DACF!C152+GOG!C90+GRC!C38+IGF!C115 -> 71159.28 | D21: =DONOR!D71+DACF!D152+GOG!D90+GRC!D38+IGF!D115 -> 13282 | E21: =DONOR!E71+DACF!E152+GOG!E90+GRC!E38+IGF!E115 -> 0 | F21: =DONOR!F71+DACF!F152+GOG!F90+GRC!F38+IGF!F115 -> 84441.28
A22: p3s2 | B22: Public Works, Rural Housing and Water Management | C22: =DONOR!C72+DACF!C153+GOG!C91+GRC!C39+IGF!C116 -> 566954.4 | D22: =DONOR!D72+DACF!D153+GOG!D91+GRC!D39+IGF!D116 -> 0 | E22: =DONOR!E72+DACF!E153+GOG!E91+GRC!E39+IGF!E116 -> 295208 | F22: =DONOR!F72+DACF!F153+GOG!F91+GRC!F39+IGF!F116 -> 862162.4
A23: p3s3 | B23: Roads and Transport Services | C23: =DONOR!C73+DACF!C154+GOG!C92+GRC!C40+IGF!C117 -> 33415.38 | D23: =DONOR!D73+DACF!D154+GOG!D92+GRC!D40+IGF!D117 -> 17922 | E23: =DONOR!E73+DACF!E154+GOG!E92+GRC!E40+IGF!E117 -> 0 | F23: =DONOR!F73+DACF!F154+GOG!F92+GRC!F40+IGF!F117 -> 51337.38
C24: =DONOR!C74+DACF!C155+GOG!C93+GRC!C41+IGF!C118 -> 671529.06 | D24: =DONOR!D74+DACF!D155+GOG!D93+GRC!D41+IGF!D118 -> 31204 | E24: =DONOR!E74+DACF!E155+GOG!E93+GRC!E41+IGF!E118 -> 295208 | F24: =DONOR!F74+DACF!F155+GOG!F93+GRC!F41+IGF!F118 -> 997941.06
A25: p4s1 | B25: Trade, Tourism and Industrial Development | C25: =DONOR!C75+DACF!C156+GOG!C94+GRC!C42+IGF!C119 -> 0 | D25: =DONOR!D75+DACF!D156+GOG!D94+GRC!D42+IGF!D119 -> 0 | E25: =DONOR!E75+DACF!E156+GOG!E94+GRC!E42+IGF!E119 -> 0 | F25: =DONOR!F75+DACF!F156+GOG!F94+GRC!F42+IGF!F119 -> 0
A26: p4s2 | B26: Agricultural Services and Management | C26: =DONOR!C76+DACF!C157+GOG!C95+GRC!C43+IGF!C120 -> 473937.6 | D26: =DONOR!D76+DACF!D157+GOG!D95+GRC!D43+IGF!D120 -> 78043.33 | E26: =DONOR!E76+DACF!E157+GOG!E95+GRC!E43+IGF!E120 -> 0 | F26: =DONOR!F76+DACF!F157+GOG!F95+GRC!F43+IGF!F120 -> 551980.93
C27: =DONOR!C77+DACF!C158+GOG!C96+GRC!C44+IGF!C121 -> 473937.6 | D27: =DONOR!D77+DACF!D158+GOG!D96+GRC!D44+IGF!D121 -> 78043.33 | E27: =DONOR!E77+DACF!E158+GOG!E96+GRC!E44+IGF!E121 -> 0 | F27: =DONOR!F77+DACF!F158+GOG!F96+GRC!F44+IGF!F121 -> 551980.93
A28: p5s1 | B28: Disaster Prevention and Management | C28: =DONOR!C78+DACF!C159+GOG!C97+GRC!C45+IGF!C122 -> 0 | D28: =DONOR!D78+DACF!D159+GOG!D97+GRC!D45+IGF!D122 -> 0 | E28: =DONOR!E78+DACF!E159+GOG!E97+GRC!E45+IGF!E122 -> 0 | F28: =DONOR!F78+DACF!F159+GOG!F97+GRC!F45+IGF!F122 -> 0
A29: p5s2 | B29: Natural Resource Conservation and Management | C29: =DONOR!C79+DACF!C160+GOG!C98+GRC!C46+IGF!C123 -> 0 | D29: =DONOR!D79+DACF!D160+GOG!D98+GRC!D46+IGF!D123 -> 0 | E29: =DONOR!E79+DACF!E160+GOG!E98+GRC!E46+IGF!E123 -> 0 | F29: =DONOR!F79+DACF!F160+GOG!F98+GRC!F46+IGF!F123 -> 0
C30: =DONOR!C80+DACF!C161+GOG!C99+GRC!C47+IGF!C124 -> 0 | D30: =DONOR!D80+DACF!D161+GOG!D99+GRC!D47+IGF!D124 -> 0 | E30: =DONOR!E80+DACF!E161+GOG!E99+GRC!E47+IGF!E124 -> 0 | F30: =DONOR!F80+DACF!F161+GOG!F99+GRC!F47+IGF!F124 -> 0
A31: Total | C31: =DONOR!C81+DACF!C162+GOG!C100+GRC!C48+IGF!C125 -> 4290882.6 | D31: =DONOR!D81+DACF!D162+GOG!D100+GRC!D48+IGF!D125 -> 818061.4 | E31: =DONOR!E81+DACF!E162+GOG!E100+GRC!E48+IGF!E125 -> 1152182.8 | F31: =DONOR!F81+DACF!F162+GOG!F100+GRC!F48+IGF!F125 -> 6261126.8
F32: =F33-F31 -> 6364835.9
C33: 12209878 | F33: 12625963
